BEGIN:VCALENDAR
VERSION:2.0
PRODID:-//Ripley United Church of Christ - ECPv6.15.12.2//NONSGML v1.0//EN
CALSCALE:GREGORIAN
METHOD:PUBLISH
X-WR-CALNAME:Ripley United Church of Christ
X-ORIGINAL-URL:https://ripleyucc.org
X-WR-CALDESC:Events for Ripley United Church of Christ
REFRESH-INTERVAL;VALUE=DURATION:PT1H
X-Robots-Tag:noindex
X-PUBLISHED-TTL:PT1H
BEGIN:VTIMEZONE
TZID:America/Chicago
BEGIN:DAYLIGHT
TZOFFSETFROM:-0600
TZOFFSETTO:-0500
TZNAME:CDT
DTSTART:20240310T080000
END:DAYLIGHT
BEGIN:STANDARD
TZOFFSETFROM:-0500
TZOFFSETTO:-0600
TZNAME:CST
DTSTART:20241103T070000
END:STANDARD
BEGIN:DAYLIGHT
TZOFFSETFROM:-0600
TZOFFSETTO:-0500
TZNAME:CDT
DTSTART:20250309T080000
END:DAYLIGHT
BEGIN:STANDARD
TZOFFSETFROM:-0500
TZOFFSETTO:-0600
TZNAME:CST
DTSTART:20251102T070000
END:STANDARD
BEGIN:DAYLIGHT
TZOFFSETFROM:-0600
TZOFFSETTO:-0500
TZNAME:CDT
DTSTART:20260308T080000
END:DAYLIGHT
BEGIN:STANDARD
TZOFFSETFROM:-0500
TZOFFSETTO:-0600
TZNAME:CST
DTSTART:20261101T070000
END:STANDARD
END:VTIMEZONE
BEGIN:VEVENT
DTSTART;TZID=America/Chicago:20250312T070000
DTEND;TZID=America/Chicago:20250312T080000
DTSTAMP:20260419T153338
CREATED:20250312T004523Z
LAST-MODIFIED:20250318T005547Z
UID:3053-1741762800-1741766400@ripleyucc.org
SUMMARY:Community Men's Lenten Breakfast
DESCRIPTION:
URL:https://ripleyucc.org/event/community-mens-lenten-breakfast/
LOCATION:Traer United Methodist Church\, 512 4th Street\, Traer\, IA\, 50675
CATEGORIES:Community,Lent,Special Event
END:VEVENT
END:VCALENDAR