BEGIN:VCALENDAR
VERSION:2.0
PRODID:-//Ripley United Church of Christ - ECPv6.15.12.2//NONSGML v1.0//EN
CALSCALE:GREGORIAN
METHOD:PUBLISH
X-WR-CALNAME:Ripley United Church of Christ
X-ORIGINAL-URL:https://ripleyucc.org
X-WR-CALDESC:Events for Ripley United Church of Christ
REFRESH-INTERVAL;VALUE=DURATION:PT1H
X-Robots-Tag:noindex
X-PUBLISHED-TTL:PT1H
BEGIN:VTIMEZONE
TZID:America/Chicago
BEGIN:DAYLIGHT
TZOFFSETFROM:-0600
TZOFFSETTO:-0500
TZNAME:CDT
DTSTART:20240310T080000
END:DAYLIGHT
BEGIN:STANDARD
TZOFFSETFROM:-0500
TZOFFSETTO:-0600
TZNAME:CST
DTSTART:20241103T070000
END:STANDARD
BEGIN:DAYLIGHT
TZOFFSETFROM:-0600
TZOFFSETTO:-0500
TZNAME:CDT
DTSTART:20250309T080000
END:DAYLIGHT
BEGIN:STANDARD
TZOFFSETFROM:-0500
TZOFFSETTO:-0600
TZNAME:CST
DTSTART:20251102T070000
END:STANDARD
BEGIN:DAYLIGHT
TZOFFSETFROM:-0600
TZOFFSETTO:-0500
TZNAME:CDT
DTSTART:20260308T080000
END:DAYLIGHT
BEGIN:STANDARD
TZOFFSETFROM:-0500
TZOFFSETTO:-0600
TZNAME:CST
DTSTART:20261101T070000
END:STANDARD
END:VTIMEZONE
BEGIN:VEVENT
DTSTART;TZID=America/Chicago:20250216T093000
DTEND;TZID=America/Chicago:20250216T103000
DTSTAMP:20260424T133252
CREATED:20250126T224903Z
LAST-MODIFIED:20250126T224911Z
UID:2515-1739698200-1739701800@ripleyucc.org
SUMMARY:Worshiping with Traer United Methodist  at Traer UMC
DESCRIPTION:Worship Feb. 16th will be AT the United Methodist Church across the street! \n\n\n\nUMC has a special worship hosted by the Gideons. Worship starts at 9:30 am with Fellowship to follow.\nCalling all Singers! We are invited to join their Choir for the workshop. They will be singing familiar hymns\, no advanced practice. For more information contact Linda Lyons @ 319-404-2900\n\n\n\n\n\n\nOur neighbors Traer United Methodist framed in fall colors 2024
URL:https://ripleyucc.org/event/worshiping-with-traer-united-methodist-at-traer-umc/
LOCATION:Traer United Methodist Church\, 512 4th Street\, Traer\, IA\, 50675
CATEGORIES:Worship with Traer UMC
END:VEVENT
END:VCALENDAR