BEGIN:VCALENDAR
VERSION:2.0
PRODID:-//Ripley United Church of Christ - ECPv6.15.12.2//NONSGML v1.0//EN
CALSCALE:GREGORIAN
METHOD:PUBLISH
X-ORIGINAL-URL:https://ripleyucc.org
X-WR-CALDESC:Events for Ripley United Church of Christ
REFRESH-INTERVAL;VALUE=DURATION:PT1H
X-Robots-Tag:noindex
X-PUBLISHED-TTL:PT1H
BEGIN:VTIMEZONE
TZID:America/Chicago
BEGIN:DAYLIGHT
TZOFFSETFROM:-0600
TZOFFSETTO:-0500
TZNAME:CDT
DTSTART:20240310T080000
END:DAYLIGHT
BEGIN:STANDARD
TZOFFSETFROM:-0500
TZOFFSETTO:-0600
TZNAME:CST
DTSTART:20241103T070000
END:STANDARD
BEGIN:DAYLIGHT
TZOFFSETFROM:-0600
TZOFFSETTO:-0500
TZNAME:CDT
DTSTART:20250309T080000
END:DAYLIGHT
BEGIN:STANDARD
TZOFFSETFROM:-0500
TZOFFSETTO:-0600
TZNAME:CST
DTSTART:20251102T070000
END:STANDARD
BEGIN:DAYLIGHT
TZOFFSETFROM:-0600
TZOFFSETTO:-0500
TZNAME:CDT
DTSTART:20260308T080000
END:DAYLIGHT
BEGIN:STANDARD
TZOFFSETFROM:-0500
TZOFFSETTO:-0600
TZNAME:CST
DTSTART:20261101T070000
END:STANDARD
END:VTIMEZONE
BEGIN:VEVENT
DTSTART;TZID=America/Chicago:20250119T104500
DTEND;TZID=America/Chicago:20250119T113000
DTSTAMP:20260425T105531
CREATED:20250105T160437Z
LAST-MODIFIED:20250119T013012Z
UID:2492-1737283500-1737286200@ripleyucc.org
SUMMARY:CANCELLED *Invitation for Sunday Luncheon with Traer UMC* CANCELLED DUE TO WEATHER
DESCRIPTION:Treaer United Methodist Church has cancelled services for January 19 due to weather conditions – there will not be a potluck gathering today. \n  \n  \nRipley Folks – You are invited to:  United Methodist Church for Lunch \nSunday Jan. 19th – Lunch at 10:45ish after their worship \n  \n  \n \n 
URL:https://ripleyucc.org/event/invitation-for-sunday-luncheon-with-traer-umc/
LOCATION:Traer United Methodist Church\, 512 4th Street\, Traer\, IA\, 50675
END:VEVENT
END:VCALENDAR