BEGIN:VCALENDAR
VERSION:2.0
PRODID:-//Ripley United Church of Christ - ECPv6.15.12.2//NONSGML v1.0//EN
CALSCALE:GREGORIAN
METHOD:PUBLISH
X-WR-CALNAME:Ripley United Church of Christ
X-ORIGINAL-URL:https://ripleyucc.org
X-WR-CALDESC:Events for Ripley United Church of Christ
REFRESH-INTERVAL;VALUE=DURATION:PT1H
X-Robots-Tag:noindex
X-PUBLISHED-TTL:PT1H
BEGIN:VTIMEZONE
TZID:America/Chicago
BEGIN:DAYLIGHT
TZOFFSETFROM:-0600
TZOFFSETTO:-0500
TZNAME:CDT
DTSTART:20230312T080000
END:DAYLIGHT
BEGIN:STANDARD
TZOFFSETFROM:-0500
TZOFFSETTO:-0600
TZNAME:CST
DTSTART:20231105T070000
END:STANDARD
BEGIN:DAYLIGHT
TZOFFSETFROM:-0600
TZOFFSETTO:-0500
TZNAME:CDT
DTSTART:20240310T080000
END:DAYLIGHT
BEGIN:STANDARD
TZOFFSETFROM:-0500
TZOFFSETTO:-0600
TZNAME:CST
DTSTART:20241103T070000
END:STANDARD
BEGIN:DAYLIGHT
TZOFFSETFROM:-0600
TZOFFSETTO:-0500
TZNAME:CDT
DTSTART:20250309T080000
END:DAYLIGHT
BEGIN:STANDARD
TZOFFSETFROM:-0500
TZOFFSETTO:-0600
TZNAME:CST
DTSTART:20251102T070000
END:STANDARD
END:VTIMEZONE
BEGIN:VEVENT
DTSTART;TZID=America/Chicago:20241016T173000
DTEND;TZID=America/Chicago:20241016T200000
DTSTAMP:20260420T015653
CREATED:20240915T022818Z
LAST-MODIFIED:20241013T223513Z
UID:2043-1729099800-1729108800@ripleyucc.org
SUMMARY:Board of Trustees Meet
DESCRIPTION:
URL:https://ripleyucc.org/event/board-of-trustees-meet-2/
LOCATION:Ripley UCC CryRoom\, 400 South Main Street\, Traer\, IA\, 50675
ORGANIZER;CN="Josie Hulme":MAILTO:hulmejosie@gmail.com
END:VEVENT
BEGIN:VEVENT
DTSTART;TZID=America/Chicago:20241013T100000
DTEND;TZID=America/Chicago:20241013T113000
DTSTAMP:20260420T015653
CREATED:20240908T164505Z
LAST-MODIFIED:20240908T164511Z
UID:2016-1728813600-1728819000@ripleyucc.org
SUMMARY:Board of Deacons Meet
DESCRIPTION:Board of Deacons to meet after fellowship \n 
URL:https://ripleyucc.org/event/board-of-deacons-meet-2/
LOCATION:Ripley UCC CryRoom\, 400 South Main Street\, Traer\, IA\, 50675
ORGANIZER;CN="Christy Flamme":MAILTO:christycalderwood@gmail.com
END:VEVENT
BEGIN:VEVENT
DTSTART;TZID=America/Chicago:20241013T090000
DTEND;TZID=America/Chicago:20241013T100000
DTSTAMP:20260420T015653
CREATED:20241013T131354Z
LAST-MODIFIED:20241013T131402Z
UID:2126-1728810000-1728813600@ripleyucc.org
SUMMARY:“The Living Word”
DESCRIPTION:10 13 2024 Bulletin
URL:https://ripleyucc.org/event/the-living-word/
LOCATION:Sunday Service at Ripley UCC\, 400 South Main Street\, Traer\, IA\, 50675
ORGANIZER;CN="Bridge Minister Jim Coppoc":MAILTO:jimatripley@gmail.com
END:VEVENT
BEGIN:VEVENT
DTSTART;TZID=America/Chicago:20241012T090000
DTEND;TZID=America/Chicago:20241012T110000
DTSTAMP:20260420T015653
CREATED:20240908T123950Z
LAST-MODIFIED:20241020T130757Z
UID:1954-1728723600-1728730800@ripleyucc.org
SUMMARY:Missions Field Trip: Sleep in Heavenly Peace Bed Build
DESCRIPTION:Saturday Oct. 12th – Ripley Service Field Trip!\n○ Sleep In Heavenly Peace Bed Build Field Trip to Ames\n■ Leave Ripley at 7:30 am (carpooling)\n■ Work from 9 to 11:00 am\n■ Lunch at Pizza Ranch\n*Free Will Donation Basket out Sept. 29th & Oct. 6th reminder of\ncost taken care of by Mission Committee\n■ Arrive back at Ripley approximately 2:00 pm
URL:https://ripleyucc.org/event/missions-field-trip-sleep-in-heavenly-peace-bed-build/
LOCATION:Ripley Church\, 400 South Main Street\, Traer\, IA\, 50675
ORGANIZER;CN="Missions Committe":MAILTO:pattycalderwood@gmail.com
END:VEVENT
BEGIN:VEVENT
DTSTART;TZID=America/Chicago:20241010T090000
DTEND;TZID=America/Chicago:20241010T150000
DTSTAMP:20260420T015653
CREATED:20240930T115340Z
LAST-MODIFIED:20241013T223553Z
UID:2112-1728550800-1728572400@ripleyucc.org
SUMMARY:Patchwork Warms Hearts
DESCRIPTION:Join in fellowship and purpose.  Ripley Stitchers gather taking pieces of fabric and creating lovely quilts for the upcoming Mission Project “Sleep in Heavenly Peace” bed build.
URL:https://ripleyucc.org/event/patchwork-warms-hearts-3/
LOCATION:Ripley UCC  Fellowship Hall\, 400 South Main Street\, Traer\, IA\, 50675
ORGANIZER;CN="Jane Knoop":MAILTO:janekoop13@gmail.com
END:VEVENT
BEGIN:VEVENT
DTSTART;TZID=America/Chicago:20241009T180000
DTEND;TZID=America/Chicago:20241009T200000
DTSTAMP:20260420T015653
CREATED:20240908T123359Z
LAST-MODIFIED:20241013T223208Z
UID:1951-1728496800-1728504000@ripleyucc.org
SUMMARY:Mission Committee Meets
DESCRIPTION:
URL:https://ripleyucc.org/event/mission-committee-meets-2/
LOCATION:Ripley UCC CryRoom\, 400 South Main Street\, Traer\, IA\, 50675
END:VEVENT
BEGIN:VEVENT
DTSTART;VALUE=DATE:20241007
DTEND;VALUE=DATE:20241008
DTSTAMP:20260420T015653
CREATED:20240908T125216Z
LAST-MODIFIED:20240908T130704Z
UID:1958-1728259200-1728345599@ripleyucc.org
SUMMARY:Ripley UCC T-Shirts !
DESCRIPTION:DESIGN #2T-Shirt Order Form
URL:https://ripleyucc.org/event/ripley-ucc-t-shirts-available/
LOCATION:Ripley South Office\, 400 South Main Street\, Traer\, IA\, 50675
END:VEVENT
BEGIN:VEVENT
DTSTART;TZID=America/Chicago:20241006T090000
DTEND;TZID=America/Chicago:20241006T100000
DTSTAMP:20260420T015653
CREATED:20241003T151213Z
LAST-MODIFIED:20241006T125537Z
UID:2114-1728205200-1728208800@ripleyucc.org
SUMMARY:World Communion
DESCRIPTION:10 06 2024 Bulletin with Communion & Blessing of Quiilts
URL:https://ripleyucc.org/event/world-communion/
LOCATION:Sunday Service at Ripley UCC\, 400 South Main Street\, Traer\, IA\, 50675
ORGANIZER;CN="Bridge Minister Jim Coppoc":MAILTO:jimatripley@gmail.com
END:VEVENT
BEGIN:VEVENT
DTSTART;TZID=America/Chicago:20241003T090000
DTEND;TZID=America/Chicago:20241003T150000
DTSTAMP:20260420T015653
CREATED:20240929T135605Z
LAST-MODIFIED:20240930T112406Z
UID:2094-1727946000-1727967600@ripleyucc.org
SUMMARY:Patchwork Warms Hearts
DESCRIPTION:
URL:https://ripleyucc.org/event/patchwork-warms-hearts-2/
LOCATION:Ripley UCC  Fellowship Hall\, 400 South Main Street\, Traer\, IA\, 50675
ORGANIZER;CN="Jane Knoop":MAILTO:janekoop13@gmail.com
END:VEVENT
BEGIN:VEVENT
DTSTART;TZID=America/Chicago:20240929T090000
DTEND;TZID=America/Chicago:20240929T100000
DTSTAMP:20260420T015653
CREATED:20240929T131921Z
LAST-MODIFIED:20240929T135322Z
UID:2091-1727600400-1727604000@ripleyucc.org
SUMMARY:“Why We Confess”
DESCRIPTION:09 29 2024 Bulletin
URL:https://ripleyucc.org/event/why-we-confess/
LOCATION:Sunday Service at Ripley UCC\, 400 South Main Street\, Traer\, IA\, 50675
ORGANIZER;CN="Bridge Minister Jim Coppoc":MAILTO:jimatripley@gmail.com
END:VEVENT
BEGIN:VEVENT
DTSTART;TZID=America/Chicago:20240929T090000
DTEND;TZID=America/Chicago:20240929T100000
DTSTAMP:20260420T015653
CREATED:20240820T032506Z
LAST-MODIFIED:20241013T223710Z
UID:1706-1727600400-1727604000@ripleyucc.org
SUMMARY:Noisy Offering Sunday!
DESCRIPTION:Bring your change and be Noisy!!!
URL:https://ripleyucc.org/event/noisy-offering-sunday/
LOCATION:Sunday Service at Ripley UCC\, 400 South Main Street\, Traer\, IA\, 50675
END:VEVENT
BEGIN:VEVENT
DTSTART;TZID=America/Chicago:20240922T090000
DTEND;TZID=America/Chicago:20240922T100000
DTSTAMP:20260420T015653
CREATED:20240922T023558Z
LAST-MODIFIED:20240922T023610Z
UID:2084-1726995600-1726999200@ripleyucc.org
SUMMARY:“A Woman of Strength”
DESCRIPTION:09 22 2024 Bulletin
URL:https://ripleyucc.org/event/a-woman-of-strength/
LOCATION:Sunday Service at Ripley UCC\, 400 South Main Street\, Traer\, IA\, 50675
ORGANIZER;CN="Bridge Minister Jim Coppoc":MAILTO:jimatripley@gmail.com
END:VEVENT
BEGIN:VEVENT
DTSTART;TZID=America/Chicago:20240919T123000
DTEND;TZID=America/Chicago:20240919T173000
DTSTAMP:20260420T015653
CREATED:20240908T145544Z
LAST-MODIFIED:20240915T025839Z
UID:2005-1726749000-1726767000@ripleyucc.org
SUMMARY:Traer Community Blood Drive
DESCRIPTION:blood-drive 091924 \n  \n 
URL:https://ripleyucc.org/event/traer-community-blood-drive/
LOCATION:Traer Memorial Building\, 414 2nd Street\, Traer\, IA\, 50675
END:VEVENT
BEGIN:VEVENT
DTSTART;TZID=America/Chicago:20240919T090000
DTEND;TZID=America/Chicago:20240919T143000
DTSTAMP:20260420T015653
CREATED:20240915T031730Z
LAST-MODIFIED:20240915T031736Z
UID:2055-1726736400-1726756200@ripleyucc.org
SUMMARY:Patchwork warms hearts
DESCRIPTION:all are welcome to join the mission.  stitching patchwork pieces into quilts of love to warm the hearts of those in need.  enter at the north door.  Bring a sack lunch and enjoy fellowship with those who stitch. \nNo experience is necessary .  Questions ? Contact Jane Knoop at 319-478-8156
URL:https://ripleyucc.org/event/patchwork-warms-hearts/
LOCATION:Ripley UCC  Fellowship Hall\, 400 South Main Street\, Traer\, IA\, 50675
ORGANIZER;CN="Jane Knoop":MAILTO:janekoop13@gmail.com
END:VEVENT
BEGIN:VEVENT
DTSTART;TZID=America/Chicago:20240918T183000
DTEND;TZID=America/Chicago:20240918T203000
DTSTAMP:20260420T015653
CREATED:20240901T150253Z
LAST-MODIFIED:20240908T133458Z
UID:1943-1726684200-1726691400@ripleyucc.org
SUMMARY:Open Mic Night at The Parsonage!
DESCRIPTION:Robert Maharry
URL:https://ripleyucc.org/event/open-mic-night-at-the-parsonage-2/
LOCATION:The Parsonage\, 513 4th Street\, Traer\, IA\, 50675\, United States
ORGANIZER;CN="Jim Coppoc":MAILTO:jimatripley@gmail.com
END:VEVENT
BEGIN:VEVENT
DTSTART;TZID=America/Chicago:20240915T090000
DTEND;TZID=America/Chicago:20240915T100000
DTSTAMP:20260420T015653
CREATED:20240908T122858Z
LAST-MODIFIED:20240915T022428Z
UID:1948-1726390800-1726394400@ripleyucc.org
SUMMARY:" The Least of These"
DESCRIPTION:09 15 2024 Bulletin
URL:https://ripleyucc.org/event/the-least-of-these/
LOCATION:Sunday Service at Ripley UCC\, 400 South Main Street\, Traer\, IA\, 50675
ORGANIZER;CN="Bridge Minister Jim Coppoc":MAILTO:jimatripley@gmail.com
END:VEVENT
BEGIN:VEVENT
DTSTART;TZID=America/Chicago:20240914T090000
DTEND;TZID=America/Chicago:20240914T150000
DTSTAMP:20260420T015653
CREATED:20240820T030334Z
LAST-MODIFIED:20240820T030334Z
UID:1681-1726304400-1726326000@ripleyucc.org
SUMMARY:Soul Stitching
DESCRIPTION:Join in the mission! Soul Stitching at Ripley All are welcome to join! No experience needed. \nEnjoy fellowship over lunch  – Potluck Style! \nQuestions? Contact Jane Knoop at 319-478-8156
URL:https://ripleyucc.org/event/soul-stitching/
LOCATION:Ripley UCC  Fellowship Hall\, 400 South Main Street\, Traer\, IA\, 50675
ORGANIZER;CN="Jane Knoop":MAILTO:janekoop13@gmail.com
END:VEVENT
BEGIN:VEVENT
DTSTART;TZID=America/Chicago:20240912T093000
DTEND;TZID=America/Chicago:20240912T140000
DTSTAMP:20260420T015653
CREATED:20240908T124510Z
LAST-MODIFIED:20240908T124518Z
UID:1956-1726133400-1726149600@ripleyucc.org
SUMMARY:Patchworks Warms Hearts
DESCRIPTION:All are welcome to join the mission.   Stitching patchwork pieces into quilts of love to warm the hearts of those in need.    Enter at the north door.  Bring a sack lunch and enjoy fellowship with those who stitch. \nNo experience is necessary.  Questions? Contact Jane Knoop 319-478-8156
URL:https://ripleyucc.org/event/patchworks-warms-hearts/
LOCATION:Ripley UCC  Fellowship Hall\, 400 South Main Street\, Traer\, IA\, 50675
ORGANIZER;CN="Jane Knoop":MAILTO:janekoop13@gmail.com
END:VEVENT
BEGIN:VEVENT
DTSTART;TZID=America/Chicago:20240911T180000
DTEND;TZID=America/Chicago:20240911T200000
DTSTAMP:20260420T015653
CREATED:20240820T031238Z
LAST-MODIFIED:20240822T023933Z
UID:1687-1726077600-1726084800@ripleyucc.org
SUMMARY:Board of Trustees Meet
DESCRIPTION:Meeting of the Board of Trustees
URL:https://ripleyucc.org/event/board-of-trustees-meet/
LOCATION:Ripley UCC CryRoom\, 400 South Main Street\, Traer\, IA\, 50675
ORGANIZER;CN="Josie Hulme":MAILTO:hulmejosie@gmail.com
END:VEVENT
BEGIN:VEVENT
DTSTART;TZID=America/Chicago:20240908T100000
DTEND;TZID=America/Chicago:20240908T113000
DTSTAMP:20260420T015653
CREATED:20240820T030801Z
LAST-MODIFIED:20240820T031830Z
UID:1691-1725789600-1725795000@ripleyucc.org
SUMMARY:Board of Deacons Meet
DESCRIPTION:Board of Deacons to meet after fellowship.
URL:https://ripleyucc.org/event/board-of-deacons-meet/
LOCATION:Ripley UCC Traer CryRoom\, 400 South Main Street\, Traer\, IA\, 50675
ORGANIZER;CN="Christy Flamme":MAILTO:christycalderwood@gmail.com
END:VEVENT
BEGIN:VEVENT
DTSTART;TZID=America/Chicago:20240908T090000
DTEND;TZID=America/Chicago:20240908T100000
DTSTAMP:20260420T015653
CREATED:20240908T122606Z
LAST-MODIFIED:20240914T120052Z
UID:1945-1725786000-1725789600@ripleyucc.org
SUMMARY:"Faith and Works"
DESCRIPTION:09 08 2024 Bulletin
URL:https://ripleyucc.org/event/faith-works/
LOCATION:Sunday Service at Ripley UCC\, 400 South Main Street\, Traer\, IA\, 50675
ORGANIZER;CN="Bridge Minister Jim Coppoc":MAILTO:jimatripley@gmail.com
END:VEVENT
BEGIN:VEVENT
DTSTART;TZID=America/Chicago:20240904T180000
DTEND;TZID=America/Chicago:20240904T200000
DTSTAMP:20260420T015653
CREATED:20240901T015415Z
LAST-MODIFIED:20240901T015546Z
UID:1875-1725472800-1725480000@ripleyucc.org
SUMMARY:Mission Committee Meets
DESCRIPTION:
URL:https://ripleyucc.org/event/mission-committee-meets/
LOCATION:IA
END:VEVENT
BEGIN:VEVENT
DTSTART;VALUE=DATE:20240902
DTEND;VALUE=DATE:20240903
DTSTAMP:20260420T015653
CREATED:20240908T125749Z
LAST-MODIFIED:20240908T130524Z
UID:1962-1725235200-1725321599@ripleyucc.org
SUMMARY:Ripley UCC T-Shirts!
DESCRIPTION:DESIGN #1\nT-Shirt Order Form
URL:https://ripleyucc.org/event/ripley-ucc-t-shirts-available-2/
LOCATION:Ripley South Office\, 400 South Main Street\, Traer\, IA\, 50675
END:VEVENT
BEGIN:VEVENT
DTSTART;TZID=America/Chicago:20240901T090000
DTEND;TZID=America/Chicago:20240901T100000
DTSTAMP:20260420T015653
CREATED:20240901T013814Z
LAST-MODIFIED:20240901T014105Z
UID:1873-1725181200-1725184800@ripleyucc.org
SUMMARY:“The Turkey and the Pan”
DESCRIPTION:09 01 2024 Bulletin with Communion
URL:https://ripleyucc.org/event/the-turkey-and-the-pan/
LOCATION:Sunday Service at Ripley UCC\, 400 South Main Street\, Traer\, IA\, 50675
ORGANIZER;CN="Bridge Minister Jim Coppoc":MAILTO:jimatripley@gmail.com
END:VEVENT
BEGIN:VEVENT
DTSTART;TZID=America/Chicago:20240829T183000
DTEND;TZID=America/Chicago:20240829T203000
DTSTAMP:20260420T015653
CREATED:20240820T033450Z
LAST-MODIFIED:20240820T033450Z
UID:1712-1724956200-1724963400@ripleyucc.org
SUMMARY:Open Mic Night at The Parsonage!
DESCRIPTION:Featuring Chris Patterson! Join in the fun!
URL:https://ripleyucc.org/event/open-mic-night-at-the-parsonage/
LOCATION:The Parsonage\, 513 4th Street\, Traer\, IA\, 50675\, United States
ORGANIZER;CN="Jim Coppoc":MAILTO:jimatripley@gmail.com
END:VEVENT
BEGIN:VEVENT
DTSTART;TZID=America/Chicago:20240825T090000
DTEND;TZID=America/Chicago:20240825T100000
DTSTAMP:20260420T015653
CREATED:20240822T024833Z
LAST-MODIFIED:20240822T033829Z
UID:1835-1724576400-1724580000@ripleyucc.org
SUMMARY:"Ambassador in Chains"
DESCRIPTION:8 25 2024 Bulletin
URL:https://ripleyucc.org/event/ambassador-in-chains/
LOCATION:Sunday Service at Ripley UCC\, 400 South Main Street\, Traer\, IA\, 50675
ORGANIZER;CN="Bridge Minister Jim Coppoc":MAILTO:jimatripley@gmail.com
END:VEVENT
BEGIN:VEVENT
DTSTART;TZID=America/Chicago:20240822T090000
DTEND;TZID=America/Chicago:20240822T150000
DTSTAMP:20260420T015653
CREATED:20240820T024019Z
LAST-MODIFIED:20240822T021405Z
UID:1668-1724317200-1724338800@ripleyucc.org
SUMMARY:Patchwork Warms Hearts
DESCRIPTION:All are welcome to join the mission.  Stitching Patchwork pieces into quilts of love to warm the hearts of those in need.   Enter at the north door.   Bring a sack lunch for enjoying fellowship with those who stitch. \n  \nNo experience is necessary.  Questions? Contact Jane Knoop 319-478-8156
URL:https://ripleyucc.org/event/patchwork-stitching-with-ripley-ucc/
LOCATION:Ripley UCC  Fellowship Hall\, 400 South Main Street\, Traer\, IA\, 50675
ORGANIZER;CN="Jane Knoop":MAILTO:janekoop13@gmail.com
END:VEVENT
BEGIN:VEVENT
DTSTART;TZID=America/Chicago:20240818T090000
DTEND;TZID=America/Chicago:20240818T100000
DTSTAMP:20260420T015653
CREATED:20240822T022341Z
LAST-MODIFIED:20240822T034003Z
UID:1829-1723971600-1723975200@ripleyucc.org
SUMMARY:“Bread of Life\, Cup of Blessing”
DESCRIPTION:8 18 2024 Bulletin.docx
URL:https://ripleyucc.org/event/bread-of-life-cup-of-blessing/
LOCATION:Sunday Service at Ripley UCC\, 400 South Main Street\, Traer\, IA\, 50675
ORGANIZER;CN="Jim Coppoc":MAILTO:jimatripley@gmail.com
END:VEVENT
BEGIN:VEVENT
DTSTART;TZID=America/Chicago:20240811T103000
DTEND;TZID=America/Chicago:20240811T103000
DTSTAMP:20260420T015653
CREATED:20240709T193114Z
LAST-MODIFIED:20240729T163133Z
UID:1228-1723372200-1723372200@ripleyucc.org
SUMMARY:SaltLight Leads Ecumenical Services In The Park For Traer’s Winding Stairs Festival
DESCRIPTION:Join us for a community service in Traer’s Taylor Park. Message and music provided by SaltLight Band. Many of the songs that SaltLight play are original\, written by lead singer\, Darla Erskine. The songs are inspired by real life experiences reflecting our human response and how God shows up with love through all life circumstances. Light refreshments will follow.
URL:https://ripleyucc.org/event/saltlight-leads-ecumenical-services-in-the-park-traers-winding-stairs-festival/
LOCATION:Taylor Park\, 400 Linn Street\, Traer\, IA\, 50675\, United States
ORGANIZER;CN="Jane Knoop":MAILTO:janekoop13@gmail.com
END:VEVENT
BEGIN:VEVENT
DTSTART;TZID=America/Chicago:20240810T080000
DTEND;TZID=America/Chicago:20240810T110000
DTSTAMP:20260420T015653
CREATED:20240908T150454Z
LAST-MODIFIED:20240908T150500Z
UID:2012-1723276800-1723287600@ripleyucc.org
SUMMARY:Breakfast - Winding Stairs Festival
DESCRIPTION:WINDING STAIRS FESTIVAL BREAKFAST
URL:https://ripleyucc.org/event/breakfast-winding-stairs-festival/
LOCATION:Traer United Presbyterian Church\, 307 Walnut Street\, Traer\, IA\, 50675\, United States
END:VEVENT
END:VCALENDAR