BEGIN:VCALENDAR
VERSION:2.0
PRODID:-//Ripley United Church of Christ - ECPv6.15.12.2//NONSGML v1.0//EN
CALSCALE:GREGORIAN
METHOD:PUBLISH
X-WR-CALNAME:Ripley United Church of Christ
X-ORIGINAL-URL:https://ripleyucc.org
X-WR-CALDESC:Events for Ripley United Church of Christ
REFRESH-INTERVAL;VALUE=DURATION:PT1H
X-Robots-Tag:noindex
X-PUBLISHED-TTL:PT1H
BEGIN:VTIMEZONE
TZID:America/Chicago
BEGIN:DAYLIGHT
TZOFFSETFROM:-0600
TZOFFSETTO:-0500
TZNAME:CDT
DTSTART:20240310T080000
END:DAYLIGHT
BEGIN:STANDARD
TZOFFSETFROM:-0500
TZOFFSETTO:-0600
TZNAME:CST
DTSTART:20241103T070000
END:STANDARD
BEGIN:DAYLIGHT
TZOFFSETFROM:-0600
TZOFFSETTO:-0500
TZNAME:CDT
DTSTART:20250309T080000
END:DAYLIGHT
BEGIN:STANDARD
TZOFFSETFROM:-0500
TZOFFSETTO:-0600
TZNAME:CST
DTSTART:20251102T070000
END:STANDARD
BEGIN:DAYLIGHT
TZOFFSETFROM:-0600
TZOFFSETTO:-0500
TZNAME:CDT
DTSTART:20260308T080000
END:DAYLIGHT
BEGIN:STANDARD
TZOFFSETFROM:-0500
TZOFFSETTO:-0600
TZNAME:CST
DTSTART:20261101T070000
END:STANDARD
END:VTIMEZONE
BEGIN:VEVENT
DTSTART;TZID=America/Chicago:20251228T090000
DTEND;TZID=America/Chicago:20251228T100000
DTSTAMP:20260419T222654
CREATED:20251226T160752Z
LAST-MODIFIED:20251228T030306Z
UID:3758-1766912400-1766916000@ripleyucc.org
SUMMARY:Joint Worship with TUMC  : “The Gift” - Pastor Mark Keefer
DESCRIPTION:Joint Worship with TUMC \nRipley UCC and Traer UMC share Sunday Service at Ripley Sunday December 28th.\, 2025\nRipley Church Meetings:          \n\nBoard of Trustees:  Tuesday – Jan. 6th @ 5:30 pm – Office\nBoard of Deacons:  Sunday – Jan. 11th @ 10 am – Office\n\n  \nRipley Mission/Church/Community Involvement: \n\nQuilting is on Christmas break\, see you in the new year !\n\nSaturday Soul Stitching – Saturday Jan 10th @ 9:00 am\n\n\nNoisy Offering – Dec. 28th: “PS” – Project Share – TMU\n\n 
URL:https://ripleyucc.org/event/joint-worship-with-tumc/
LOCATION:Sunday Service at Ripley UCC\, 400 South Main Street\, Traer\, IA\, 50675
CATEGORIES:Sunday Service,Worship with Traer UMC
ORGANIZER;CN="Bridge Minister Jim Coppoc":MAILTO:jimatripley@gmail.com
END:VEVENT
END:VCALENDAR