BEGIN:VCALENDAR
VERSION:2.0
PRODID:-//Ripley United Church of Christ - ECPv6.15.12.2//NONSGML v1.0//EN
CALSCALE:GREGORIAN
METHOD:PUBLISH
X-WR-CALNAME:Ripley United Church of Christ
X-ORIGINAL-URL:https://ripleyucc.org
X-WR-CALDESC:Events for Ripley United Church of Christ
REFRESH-INTERVAL;VALUE=DURATION:PT1H
X-Robots-Tag:noindex
X-PUBLISHED-TTL:PT1H
BEGIN:VTIMEZONE
TZID:America/Chicago
BEGIN:DAYLIGHT
TZOFFSETFROM:-0600
TZOFFSETTO:-0500
TZNAME:CDT
DTSTART:20250309T080000
END:DAYLIGHT
BEGIN:STANDARD
TZOFFSETFROM:-0500
TZOFFSETTO:-0600
TZNAME:CST
DTSTART:20251102T070000
END:STANDARD
BEGIN:DAYLIGHT
TZOFFSETFROM:-0600
TZOFFSETTO:-0500
TZNAME:CDT
DTSTART:20260308T080000
END:DAYLIGHT
BEGIN:STANDARD
TZOFFSETFROM:-0500
TZOFFSETTO:-0600
TZNAME:CST
DTSTART:20261101T070000
END:STANDARD
BEGIN:DAYLIGHT
TZOFFSETFROM:-0600
TZOFFSETTO:-0500
TZNAME:CDT
DTSTART:20270314T080000
END:DAYLIGHT
BEGIN:STANDARD
TZOFFSETFROM:-0500
TZOFFSETTO:-0600
TZNAME:CST
DTSTART:20271107T070000
END:STANDARD
END:VTIMEZONE
BEGIN:VEVENT
DTSTART;TZID=America/Chicago:20260426T120000
DTEND;TZID=America/Chicago:20260426T183000
DTSTAMP:20260426T012938
CREATED:20260419T154009Z
LAST-MODIFIED:20260421T202716Z
UID:4066-1777204800-1777228200@ripleyucc.org
SUMMARY:Pastor Jim’s "Ecclesiastical  Council" @ Iowa UCC Conference Meeting:
DESCRIPTION:Sunday April 26th – Meeting Starts at 2:30\, Ecclesiastical Council approx 3:45 \nPlans are underway for the upcoming conference meeting where Pastor Jim will speak before attendees.  As most of you know\, Pastor Jim serves our church as a “Lay Minister\,” which is a temporary status.  For the past couple years\, Ihe has been working with a group of Ripley congregants to complete the steps to becoming fully ordained\, so that he can continue to serve Ripley UCC. \nSunday\, April 26\, Pastor Jim will go before an “Ecclesiastical Council” made up of delegates from all the UCC churches in the Central Iowa Association.  This is part of the Association’s Annual meeting.  The results of the Council will determine his status as a pastor.    The meeting starts at 2:30 pm.  His part will likely start around 3:45\, and go for an hour.  During this meeting\, delegates will vote on his status as a pastor and whether he should proceed toward ordination. \nFrom Pastor Jim: “Beyond the need for recommendation\, I have never felt more a part of a church than I do Ripley.  I feel like we are one body\, working together to “serve God by serving others.”  Full ordination is a big step in the life of a pastor\, and it would feel more “right” to have the church there (in person or online) with me.” \n\n \nA “cheering section” of supporters from Ripley is being organized to attend and show encouragement\, with some willing to speak on his behalf. If you are interested in joining the cheering section\, please sign up in the kitchen so that car pooling can be arranged. If you are unable to attend in person you can join virtually. Find the flyer with those zoom link below. \nDetails:  \n\nHearty Brunch Fellowship at Ripley \nLeave Ripley approximately 12:00 noon – travel to Urbandale UCC Church\n\nCarpooling sign up in the kitchen\n\n\nAttend Conference Meeting and Cheer Jim on\nStop somewhere for Supper on the way home (Dutch Treat)\n\n  \n  \n  \nhttps://us06web.zoom.us/j/89152410736?pwd+vtapSEpzLcXVOulaq3KotRbT3Zkobz.1
URL:https://ripleyucc.org/event/pastor-jims-ecclesiastical-council-iowa-ucc-conference-meeting/
LOCATION:Urbandale United Church of Christ\, 3530 70th STreet\, Urbandale\, IA\, 50322
CATEGORIES:Special Event
ORGANIZER;CN="John K. Ashby":MAILTO:john.kennethg.ashby@gmail.com
END:VEVENT
END:VCALENDAR